BEGIN:VCALENDAR
VERSION:2.0
PRODID:SchoolNow
CALSCALE:GREGORIAN
BEGIN:VEVENT
UID:1807b622-c093-11ee-9043-0a58a9feac02
DTSTAMP:20240131T234729Z
SUMMARY:ASFRC Meeting
LOCATION:Room 605
URL;VALUE=URI:https://www.frc.edu/studentlife/calendar/5238338/asfrc-meetin
 g-clone-clone-clone-clone-clone
DTSTART:20240415T190000Z
DTEND:20240415T200000Z
END:VEVENT
END:VCALENDAR
