BEGIN:VCALENDAR
VERSION:2.0
PRODID:SchoolNow
CALSCALE:GREGORIAN
BEGIN:VEVENT
UID:fd6b50f8-c092-11ee-bb83-0aab6f4ff24d
DTSTAMP:20240131T234644Z
SUMMARY:ASFRC Meeting
LOCATION:Room 605
URL;VALUE=URI:https://www.frc.edu/studentlife/calendar/5238333/asfrc-meetin
 g-clone-clone-clone
DTSTART:20240401T190000Z
DTEND:20240401T200000Z
END:VEVENT
END:VCALENDAR
