BEGIN:VCALENDAR
VERSION:2.0
PRODID:SchoolNow
CALSCALE:GREGORIAN
BEGIN:VEVENT
UID:d29485e8-c092-11ee-bc28-0a58a9feac02
DTSTAMP:20240131T234532Z
SUMMARY:ASFRC Meeting
LOCATION:Room 605
URL;VALUE=URI:https://www.frc.edu/studentlife/calendar/5238326/asfrc-meetin
 g-clone
DTSTART:20240318T190000Z
DTEND:20240318T200000Z
END:VEVENT
END:VCALENDAR
