BEGIN:VCALENDAR
VERSION:2.0
PRODID:SchoolNow
CALSCALE:GREGORIAN
BEGIN:VEVENT
UID:c389a2e0-c092-11ee-985b-0a4efb4470e7
DTSTAMP:20240131T234507Z
SUMMARY:ASFRC Meeting
LOCATION:Room 605
URL;VALUE=URI:https://www.frc.edu/studentlife/calendar/5238323/asfrc-meetin
 g-clone
DTSTART:20240311T190000Z
DTEND:20240311T200000Z
END:VEVENT
END:VCALENDAR
