BEGIN:VCALENDAR
VERSION:2.0
PRODID:SchoolNow
CALSCALE:GREGORIAN
BEGIN:VEVENT
UID:6e3c207a-c08c-11ee-b981-021791d9843b
DTSTAMP:20240131T225947Z
SUMMARY:Free Lunch for Students
LOCATION:Eagles Perch
URL;VALUE=URI:https://www.frc.edu/studentlife/calendar/5237441/free-lunch-f
 or-students-clone-clone
DTSTART:20240509T180000Z
DTEND:20240509T210000Z
END:VEVENT
END:VCALENDAR
