BEGIN:VCALENDAR
VERSION:2.0
PRODID:SchoolNow
CALSCALE:GREGORIAN
BEGIN:VEVENT
UID:17db7a32-c08c-11ee-bcd4-0a58a9feac02
DTSTAMP:20240131T225722Z
SUMMARY:Free Lunch for Students
LOCATION:Eagles Perch
URL;VALUE=URI:https://www.frc.edu/studentlife/calendar/5237426/free-lunch-f
 or-students-clone-clone
DTSTART:20240222T190000Z
DTEND:20240222T220000Z
END:VEVENT
END:VCALENDAR
