BEGIN:VCALENDAR
VERSION:2.0
PRODID:SchoolNow
CALSCALE:GREGORIAN
BEGIN:VEVENT
UID:db4f7816-c08b-11ee-a5b2-0a58a9feac02
DTSTAMP:20240131T225540Z
SUMMARY:Free Lunch for Students
LOCATION:Eagles Perch
URL;VALUE=URI:https://www.frc.edu/studentlife/calendar/5237423/free-lunch-f
 or-students-clone
DTSTART:20240208T190000Z
DTEND:20240208T220000Z
END:VEVENT
END:VCALENDAR
