BEGIN:VCALENDAR
VERSION:2.0
PRODID:SchoolNow
CALSCALE:GREGORIAN
BEGIN:VEVENT
UID:2f3b5342-bfc8-11ee-8b2e-0a58a9feac02
DTSTAMP:20240131T181359Z
SUMMARY:Free Movie Night: The Color Purple
LOCATION:Town Hall Theater in Quincy
URL;VALUE=URI:https://www.frc.edu/studentlife/calendar/5233489/free-movie-n
 ight-the-color-purple
DTSTART:20240217T030000Z
DTEND:20240219T030000Z
END:VEVENT
END:VCALENDAR
