BEGIN:VCALENDAR
VERSION:2.0
PRODID:SchoolNow
CALSCALE:GREGORIAN
BEGIN:VEVENT
UID:3ade9912-bc98-11ee-b4ea-0aebd184523d
DTSTAMP:20240131T234016Z
SUMMARY:ASFRC Meeting
LOCATION:Room 605
URL;VALUE=URI:https://www.frc.edu/studentlife/calendar/5215103/asfrc-meetin
 g
DTSTART:20240304T200000Z
DTEND:20240304T210000Z
END:VEVENT
END:VCALENDAR
