BEGIN:VCALENDAR
VERSION:2.0
PRODID:SchoolNow
CALSCALE:GREGORIAN
BEGIN:VEVENT
UID:07b3ab22-bc98-11ee-8659-0a58a9feac02
DTSTAMP:20240131T231038Z
SUMMARY:ASFRC Meeting
LOCATION:Room 605
URL;VALUE=URI:https://www.frc.edu/studentlife/calendar/5215097/asfrc-meetin
 g
DTSTART:20240205T200000Z
DTEND:20240205T210000Z
END:VEVENT
END:VCALENDAR
