BEGIN:VCALENDAR
VERSION:2.0
PRODID:SchoolNow
CALSCALE:GREGORIAN
BEGIN:VEVENT
UID:76b719e6-bbad-11ee-bc92-02d28e9cebaf
DTSTAMP:20240125T181339Z
SUMMARY:Groundhog Fever Fest
LOCATION:Downtown Quincy
URL;VALUE=URI:https://www.frc.edu/studentlife/calendar/5207728/groundhog-fe
 ver-fest
DTSTART:20240203T190000Z
DTEND:20240203T230000Z
ATTACH;FILENAME=2024 GFF Flyer w sponsor.png;FMTTYPE=image/png:https://camp
 ussuite-storage.s3.amazonaws.com/prod/1558523/0672826e-a84b-11e7-9779-0ae3
 e1d9783c/2730797/60e6acf8-bbad-11ee-a31b-0efca7479bb7/file/2024 GFF Flyer 
 w sponsor.png
END:VEVENT
END:VCALENDAR
