BEGIN:VCALENDAR
VERSION:2.0
PRODID:SchoolNow
CALSCALE:GREGORIAN
BEGIN:VEVENT
UID:8fa80c96-b4c1-11ee-a178-0a58a9feac02
DTSTAMP:20240116T224952Z
SUMMARY:Resource Fair & Nacho Bar
LOCATION:FRC Gymnasium
URL;VALUE=URI:https://www.frc.edu/studentlife/calendar/5164739/resource-fai
 r-nacho-bar
DTSTART:20240125T000000Z
DTEND:20240125T020000Z
END:VEVENT
END:VCALENDAR
