BEGIN:VCALENDAR
VERSION:2.0
PRODID:SchoolNow
CALSCALE:GREGORIAN
BEGIN:VEVENT
UID:5b28d522-b4c1-11ee-aea8-0ea9eab71f25
DTSTAMP:20240118T193028Z
SUMMARY:Men's Home Basketball Game
LOCATION:FRC Gymnasium
URL;VALUE=URI:https://www.frc.edu/studentlife/calendar/5164737/mens-home-ba
 sketball-game
DTSTART:20240120T210000Z
DTEND:20240120T230000Z
END:VEVENT
END:VCALENDAR
