BEGIN:VCALENDAR
VERSION:2.0
PRODID:SchoolNow
CALSCALE:GREGORIAN
BEGIN:VEVENT
UID:af3d351c-b4bd-11ee-a1cf-0a58a9feac02
DTSTAMP:20240116T225116Z
SUMMARY:New Student Orientation (new spring students only)
LOCATION:Library
URL;VALUE=URI:https://www.frc.edu/studentlife/calendar/5164722/wow-new-stud
 ent-orientation-clone
DTSTART:20240119T171500Z
DTEND:20240119T200000Z
END:VEVENT
END:VCALENDAR
