BEGIN:VCALENDAR
VERSION:2.0
PRODID:SchoolNow
CALSCALE:GREGORIAN
BEGIN:VEVENT
UID:bd255f12-99e0-11ee-8297-0a975cb9324d
DTSTAMP:20231213T175502Z
SUMMARY:HOLIDAY - Martin Luther King Jr. - CAMPUS CLOSED
URL;VALUE=URI:https://www.frc.edu/studentlife/calendar/4996448/holiday-mart
 in-luther-king-jr-campus-closed-clone
DTSTART;VALUE=DATE:20240115
DTEND;VALUE=DATE:20240116
END:VEVENT
END:VCALENDAR
