BEGIN:VCALENDAR
VERSION:2.0
PRODID:SchoolNow
CALSCALE:GREGORIAN
BEGIN:VEVENT
UID:90e53b20-9846-11ee-9abe-0a35c42d443b
DTSTAMP:20240513T234640Z
SUMMARY:ASFRC Meeting
LOCATION:Room 605
URL;VALUE=URI:https://www.frc.edu/studentlife/calendar/4992995/asfrc-meetin
 g
DTSTART:20231211T200000Z
DTEND:20231211T210000Z
END:VEVENT
END:VCALENDAR
