BEGIN:VCALENDAR
VERSION:2.0
PRODID:SchoolNow
CALSCALE:GREGORIAN
BEGIN:VEVENT
UID:bd5eccd0-8eef-11ee-abae-0ee3a8e4fcb9
DTSTAMP:20231129T194442Z
SUMMARY:Crohn's and Colitis Awareness "Poopfest"
LOCATION:Outside the Perch
URL;VALUE=URI:https://www.frc.edu/studentlife/calendar/4974611/crohns-and-c
 olitis-awareness-poopfest
DTSTART:20231206T203000Z
DTEND:20231206T220000Z
END:VEVENT
END:VCALENDAR
