BEGIN:VCALENDAR
VERSION:2.0
PRODID:SchoolNow
CALSCALE:GREGORIAN
BEGIN:VEVENT
UID:3e944e42-8eeb-11ee-96e1-0a58a9feac02
DTSTAMP:20231129T195411Z
SUMMARY:Join the Conversation: ASFRC Constitution and Bylaws Festive Forum
URL;VALUE=URI:https://www.frc.edu/studentlife/calendar/4974018/join-the-con
 versation-asfrc-constitution-and-bylaws-festive-forum
DTSTART:20231205T164500Z
DTEND:20231205T190000Z
END:VEVENT
END:VCALENDAR
