BEGIN:VCALENDAR
VERSION:2.0
PRODID:SchoolNow
CALSCALE:GREGORIAN
BEGIN:VEVENT
UID:71bf7b30-8350-11ee-b0fa-0a58a9feac02
DTSTAMP:20231130T215024Z
SUMMARY:Student Research Symposium
LOCATION:Gymnasium & Various Campus Classrooms
URL;VALUE=URI:https://www.frc.edu/studentlife/calendar/4947944/student-rese
 arch-symposium-clone
DTSTART:20231204T203000Z
DTEND:20231205T010000Z
ATTACH;FILENAME=Symposium FA23.pdf;FMTTYPE=application/pdf:https://campussu
 ite-storage.s3.amazonaws.com/prod/1558523/0672826e-a84b-11e7-9779-0ae3e1d9
 783c/2704333/2d2f00e8-896e-11ee-8c54-0a58a9feac02/file/Symposium FA23.pdf
END:VEVENT
END:VCALENDAR
