BEGIN:VCALENDAR
VERSION:2.0
PRODID:SchoolNow
CALSCALE:GREGORIAN
BEGIN:VEVENT
UID:2f5cf344-7e91-11ee-bda1-0afe98347889
DTSTAMP:20231108T234732Z
SUMMARY:International Student Week at FRC
LOCATION:The Perch
URL;VALUE=URI:https://www.frc.edu/studentlife/calendar/4935773/internationa
 l-student-week-at-frc
DTSTART:20231113T160000Z
DTEND:20231118T010000Z
END:VEVENT
END:VCALENDAR
