BEGIN:VCALENDAR
VERSION:2.0
PRODID:SchoolNow
CALSCALE:GREGORIAN
BEGIN:VEVENT
UID:768e19ba-799a-11ee-9467-0a58a9feac02
DTSTAMP:20231108T191719Z
SUMMARY:Comfort Food Meal Kit
LOCATION:Student Wellness and Success Center
URL;VALUE=URI:https://www.frc.edu/studentlife/calendar/4922466/comfort-food
 -meal-kit
DTSTART;VALUE=DATE:20231115
DTEND;VALUE=DATE:20231116
END:VEVENT
END:VCALENDAR
