BEGIN:VCALENDAR
VERSION:2.0
PRODID:SchoolNow
CALSCALE:GREGORIAN
BEGIN:VEVENT
UID:f4d931a4-734d-11ee-8a4d-0a58a9feac02
DTSTAMP:20231025T155020Z
SUMMARY:Safe Trick or Treat (Downtown Quincy)
LOCATION:Downtown Quincy
URL;VALUE=URI:https://www.frc.edu/studentlife/calendar/4899454/safe-trick-o
 r-treat-downtown-quincy
DTSTART:20231031T220000Z
DTEND:20231101T003000Z
END:VEVENT
END:VCALENDAR
