BEGIN:VCALENDAR
VERSION:2.0
PRODID:SchoolNow
CALSCALE:GREGORIAN
BEGIN:VEVENT
UID:a9ca6566-729e-11ee-8e2b-0a84cbf50c33
DTSTAMP:20231024T185347Z
SUMMARY:Halloween Rodeo
LOCATION:FRC Rodeo Grounds (by softball field)
URL;VALUE=URI:https://www.frc.edu/studentlife/calendar/4895737/halloween-ro
 deo
DTSTART:20231027T200000Z
DTEND:20231027T220000Z
ATTACH;FILENAME=Halloween Rodeo_Ag.jpg;FMTTYPE=image/jpeg:https://campussui
 te-storage.s3.amazonaws.com/prod/1558523/0672826e-a84b-11e7-9779-0ae3e1d97
 83c/2686227/531e3486-729e-11ee-92df-021e318a3333/file/Halloween Rodeo_Ag.j
 pg
END:VEVENT
END:VCALENDAR
