BEGIN:VCALENDAR
VERSION:2.0
PRODID:SchoolNow
CALSCALE:GREGORIAN
BEGIN:VEVENT
UID:59c20e60-7295-11ee-9638-0e2d6ff2031f
DTSTAMP:20231025T204830Z
SUMMARY:ASFRC Fall Festival
LOCATION:FRC Field Behind Baseball & Softball
URL;VALUE=URI:https://www.frc.edu/studentlife/calendar/4895717/asfrc-fall-f
 estival
DTSTART:20231031T193000Z
DTEND:20231031T210000Z
ATTACH;FILENAME=ASFRC Fall Festival  (4).pdf;FMTTYPE=application/pdf:https:
 //campussuite-storage.s3.amazonaws.com/prod/1558523/0672826e-a84b-11e7-977
 9-0ae3e1d9783c/2687246/d3129cca-7377-11ee-8b5d-026c61414fe9/file/ASFRC Fal
 l Festival  (4).pdf
END:VEVENT
END:VCALENDAR
