BEGIN:VCALENDAR
VERSION:2.0
PRODID:SchoolNow
CALSCALE:GREGORIAN
BEGIN:VEVENT
UID:98748684-7203-11ee-8807-0a58a9feac02
DTSTAMP:20231025T180746Z
SUMMARY:Murder Mystery Dinner & Dance
LOCATION:Plumas County Fairgrounds (Mineral Building)
URL;VALUE=URI:https://www.frc.edu/studentlife/calendar/4893311/murder-myste
 ry-dinner-dance
DTSTART:20231102T000000Z
DTEND:20231102T040000Z
END:VEVENT
END:VCALENDAR
