BEGIN:VCALENDAR
VERSION:2.0
PRODID:SchoolNow
CALSCALE:GREGORIAN
BEGIN:VEVENT
UID:5ecdd560-6c73-11ee-99ee-0a58a9feac02
DTSTAMP:20231023T153603Z
SUMMARY:Employment Workshop
LOCATION:Classroom 605
URL;VALUE=URI:https://www.frc.edu/studentlife/calendar/4871528/employment-w
 orkshop
DTSTART:20231025T170000Z
DTEND:20231025T180000Z
END:VEVENT
END:VCALENDAR
