BEGIN:VCALENDAR
VERSION:2.0
PRODID:SchoolNow
CALSCALE:GREGORIAN
BEGIN:VEVENT
UID:809f1a90-679c-11ee-9fa5-0a58a9feac02
DTSTAMP:20231011T183012Z
SUMMARY:Spirit Week - ASFRC Meet & Greet
LOCATION:The Perch
URL;VALUE=URI:https://www.frc.edu/studentlife/calendar/4851273/spirit-week-
 asfrc-meet-greet
DTSTART:20231019T154500Z
DTEND:20231019T164500Z
ATTACH;FILENAME=ASFRC Meet and Greet 10-19.pdf;FMTTYPE=application/pdf:http
 s://campussuite-storage.s3.amazonaws.com/prod/1558523/0672826e-a84b-11e7-9
 779-0ae3e1d9783c/2679334/2ff076d4-6864-11ee-bc15-027d847ca421/file/ASFRC M
 eet and Greet 10-19.pdf
END:VEVENT
END:VCALENDAR
