BEGIN:VCALENDAR
VERSION:2.0
PRODID:SchoolNow
CALSCALE:GREGORIAN
BEGIN:VEVENT
UID:3e26d770-6472-11ee-bbec-02401aca49fb
DTSTAMP:20231006T180032Z
SUMMARY:Movie for National Coming Out Day
LOCATION:Library
URL;VALUE=URI:https://www.frc.edu/studentlife/calendar/4838180/movie-for-na
 tional-coming-out-day
DTSTART:20231012T000000Z
DTEND:20231012T020000Z
ATTACH;FILENAME=movienight1.png;FMTTYPE=image/png:https://campussuite-stora
 ge.s3.amazonaws.com/prod/1558523/0672826e-a84b-11e7-9779-0ae3e1d9783c/2677
 628/2fd7b7c0-6472-11ee-872c-02401aca49fb/file/movienight1.png
END:VEVENT
END:VCALENDAR
