BEGIN:VCALENDAR
VERSION:2.0
PRODID:SchoolNow
CALSCALE:GREGORIAN
BEGIN:VEVENT
UID:12869aba-63b4-11ee-a058-02d1d1d62b0b
DTSTAMP:20231019T173347Z
SUMMARY:Volleyball Game - Spirit Week Blackout (FREE pizza night)
LOCATION:Gymnasium
URL;VALUE=URI:https://www.frc.edu/studentlife/calendar/4835517/spirit-week-
 day-4-black-out-volleyball-game
DTSTART:20231021T010000Z
DTEND:20231021T023000Z
END:VEVENT
END:VCALENDAR
