BEGIN:VCALENDAR
VERSION:2.0
PRODID:SchoolNow
CALSCALE:GREGORIAN
BEGIN:VEVENT
UID:9683df7c-63b3-11ee-923b-0a58a9feac02
DTSTAMP:20231016T225315Z
SUMMARY:Spirit Week - Blackout @ Men's Soccer Game
LOCATION:Soccer Fields
URL;VALUE=URI:https://www.frc.edu/studentlife/calendar/4835372/spirit-week-
 day-2-black-out-soccer-game
DTSTART:20231017T210000Z
DTEND:20231017T230000Z
END:VEVENT
END:VCALENDAR
