BEGIN:VCALENDAR
VERSION:2.0
PRODID:SchoolNow
CALSCALE:GREGORIAN
BEGIN:VEVENT
UID:e172e646-62e0-11ee-9283-0a9d765d54b1
DTSTAMP:20231004T180728Z
SUMMARY:Decorate Downtown Quincy
LOCATION:Student Lounge (to begin)
URL;VALUE=URI:https://www.frc.edu/studentlife/calendar/4830399/decorate-dow
 ntown-quincy
DTSTART:20231010T160000Z
DTEND:20231010T190000Z
END:VEVENT
END:VCALENDAR
