BEGIN:VCALENDAR
VERSION:2.0
PRODID:SchoolNow
CALSCALE:GREGORIAN
BEGIN:VEVENT
UID:2b91d7ae-6210-11ee-a4fb-0a756eb709e9
DTSTAMP:20231003T171328Z
SUMMARY:FRC Rodeo
LOCATION:Plumas-Sierra Fairgrounds (Quincy)
URL;VALUE=URI:https://www.frc.edu/studentlife/calendar/4826258/frc-rodeo
DTSTART:20231006T150000Z
DTEND:20231008T030000Z
ATTACH;FILENAME=FRC Rodeo Flyer_2023_web.jpg;FMTTYPE=image/jpeg:https://cam
 pussuite-storage.s3.amazonaws.com/prod/1558523/0672826e-a84b-11e7-9779-0ae
 3e1d9783c/2655576/e19e88e0-4d06-11ee-abf8-0a58a9feac02/file/FRC Rodeo Flye
 r_2023_web.jpg
END:VEVENT
END:VCALENDAR
