BEGIN:VCALENDAR
VERSION:2.0
PRODID:SchoolNow
CALSCALE:GREGORIAN
BEGIN:VEVENT
UID:eca2455e-5d5c-11ee-b514-0e04d5b84849
DTSTAMP:20230927T174018Z
SUMMARY:Banned Books Reading
LOCATION:The Perch (outside)
URL;VALUE=URI:https://www.frc.edu/studentlife/calendar/4802100/banned-books
 -reading
DTSTART:20231005T190000Z
DTEND:20231005T200000Z
ATTACH;FILENAME=Stack of Books Flyer (1).png;FMTTYPE=image/png:https://camp
 ussuite-storage.s3.amazonaws.com/prod/1558523/0672826e-a84b-11e7-9779-0ae3
 e1d9783c/2670303/dd0f9296-5d5b-11ee-8775-0a58a9feac02/file/Stack of Books 
 Flyer (1).png
END:VEVENT
END:VCALENDAR
