BEGIN:VCALENDAR
VERSION:2.0
PRODID:SchoolNow
CALSCALE:GREGORIAN
BEGIN:VEVENT
UID:a9fa411a-5722-11ee-899d-02774828289f
DTSTAMP:20230919T192808Z
SUMMARY:Free Lunch for Students
LOCATION:The Perch
URL;VALUE=URI:https://www.frc.edu/studentlife/calendar/4760831/free-lunch-c
 lone-clone
DTSTART:20231207T190000Z
DTEND:20231207T220000Z
END:VEVENT
END:VCALENDAR
