BEGIN:VCALENDAR
VERSION:2.0
PRODID:SchoolNow
CALSCALE:GREGORIAN
BEGIN:VEVENT
UID:f34679e8-5721-11ee-97ff-0a959632f283
DTSTAMP:20230919T192302Z
SUMMARY:Free Lunch for Students
LOCATION:The Perch
URL;VALUE=URI:https://www.frc.edu/studentlife/calendar/4760824/free-lunch-c
 lone-clone-clone
DTSTART:20231026T180000Z
DTEND:20231026T210000Z
END:VEVENT
END:VCALENDAR
