BEGIN:VCALENDAR
VERSION:2.0
PRODID:SchoolNow
CALSCALE:GREGORIAN
BEGIN:VEVENT
UID:8f650970-5669-11ee-a8fe-0e735600cc31
DTSTAMP:20230926T175552Z
SUMMARY:Ag Day Picnic & Corn Hole Tournament
LOCATION:Agriculture building (lower campus)
URL;VALUE=URI:https://www.frc.edu/studentlife/calendar/4756751/ag-day-picni
 c
DTSTART:20230929T180000Z
DTEND:20230929T200000Z
ATTACH;FILENAME=Ag Day Picnic.pdf;FMTTYPE=application/pdf:https://campussui
 te-storage.s3.amazonaws.com/prod/1558523/0672826e-a84b-11e7-9779-0ae3e1d97
 83c/2662659/8af4215a-5669-11ee-8e74-0a58a9feac02/file/Ag Day Picnic.pdf
END:VEVENT
END:VCALENDAR
