BEGIN:VCALENDAR
VERSION:2.0
PRODID:SchoolNow
CALSCALE:GREGORIAN
BEGIN:VEVENT
UID:3d519cd8-5665-11ee-a2d4-0a58a9feac02
DTSTAMP:20230919T224711Z
SUMMARY:Climbing & Crafts Night - Hispanic Heritage Month
LOCATION:Art/ORL building
URL;VALUE=URI:https://www.frc.edu/studentlife/calendar/4756741/climbing-cra
 fts-night
DTSTART:20230926T000000Z
DTEND:20230926T020000Z
END:VEVENT
END:VCALENDAR
