BEGIN:VCALENDAR
VERSION:2.0
PRODID:SchoolNow
CALSCALE:GREGORIAN
BEGIN:VEVENT
UID:1b4cac76-5323-11ee-804a-0ea8776c1f05
DTSTAMP:20230914T172114Z
SUMMARY:Free Lunch for Students
LOCATION:The Perch
URL;VALUE=URI:https://www.frc.edu/studentlife/calendar/4737215/free-lunch
DTSTART:20230914T180000Z
DTEND:20230914T210000Z
END:VEVENT
END:VCALENDAR
