BEGIN:VCALENDAR
VERSION:2.0
PRODID:SchoolNow
CALSCALE:GREGORIAN
BEGIN:VEVENT
UID:678291b2-4759-11ee-b630-0ece54762e5b
DTSTAMP:20230913T184735Z
SUMMARY:Student & Staff Mixer
LOCATION:Pioneer Park\, East Quincy
URL;VALUE=URI:https://www.frc.edu/studentlife/calendar/4653803/games-the-pa
 rk-student-and-staff-mixer
DTSTART:20230922T000000Z
DTEND:20230922T020000Z
END:VEVENT
END:VCALENDAR
