BEGIN:VCALENDAR
VERSION:2.0
PRODID:SchoolNow
CALSCALE:GREGORIAN
BEGIN:VEVENT
UID:0615f99e-4756-11ee-8406-0a92f58f641d
DTSTAMP:20230912T184328Z
SUMMARY:Ice Cream Social & FRC Club Mixer
LOCATION:Upper Green (outside of The Perch)
URL;VALUE=URI:https://www.frc.edu/studentlife/calendar/4653793/ice-cream-so
 cial
DTSTART:20230920T183000Z
DTEND:20230920T200000Z
ATTACH;FILENAME=FRC Ice Cream Social 2023.jpg;FMTTYPE=image/jpeg:https://ca
 mpussuite-storage.s3.amazonaws.com/prod/1558523/0672826e-a84b-11e7-9779-0a
 e3e1d9783c/2658751/25ab00a6-519c-11ee-9bd7-0a58a9feac02/file/FRC Ice Cream
  Social 2023.jpg
END:VEVENT
END:VCALENDAR
