BEGIN:VCALENDAR
VERSION:2.0
PRODID:SchoolNow
CALSCALE:GREGORIAN
BEGIN:VEVENT
UID:d86812f2-46ba-11ee-b405-029c519d0b5b
DTSTAMP:20230829T222440Z
SUMMARY:TRIO (SSS) - Ice Cream Social
LOCATION:TRiO SSS office (Near Financial Aid Office)
URL;VALUE=URI:https://www.frc.edu/studentlife/calendar/4649840/trio-sss-ice
 -cream-social
DTSTART:20230830T183000Z
DTEND:20230830T203000Z
END:VEVENT
END:VCALENDAR
