BEGIN:VCALENDAR
VERSION:2.0
PRODID:SchoolNow
CALSCALE:GREGORIAN
BEGIN:VEVENT
UID:e874e718-42c0-11ee-bd87-021e10b920ff
DTSTAMP:20230829T222934Z
SUMMARY:Suicide Alertness and Prevention Training for ALL
LOCATION:Student Wellness and Success Center
URL;VALUE=URI:https://www.frc.edu/studentlife/calendar/4621569/suicide-aler
 t-training-for-all
DTSTART:20230906T190000Z
DTEND:20230906T200000Z
ATTACH;FILENAME=FRC Suicide Prevention Sept 2023 MEal Card.pdf;FMTTYPE=appl
 ication/pdf:https://campussuite-storage.s3.amazonaws.com/prod/1558523/0672
 826e-a84b-11e7-9779-0ae3e1d9783c/2649163/0ae4b0a2-42c2-11ee-9468-021e10b92
 0ff/file/FRC Suicide Prevention Sept 2023 MEal Card.pdf
END:VEVENT
END:VCALENDAR
