BEGIN:VCALENDAR
VERSION:2.0
PRODID:SchoolNow
CALSCALE:GREGORIAN
BEGIN:VEVENT
UID:531e239e-3abb-11ee-a63b-0ea969593bb7
DTSTAMP:20230814T155752Z
SUMMARY:Concert on the Green (WOW event)
LOCATION:Lower Green - FRC Campus
URL;VALUE=URI:https://www.frc.edu/studentlife/calendar/4572614/concert-on-t
 he-green-wow-event
DTSTART:20230825T003000Z
DTEND:20230825T020000Z
END:VEVENT
END:VCALENDAR
