BEGIN:VCALENDAR
VERSION:2.0
PRODID:SchoolNow
CALSCALE:GREGORIAN
BEGIN:VEVENT
UID:ecd34ccc-3aba-11ee-95ac-0216a0ed626f
DTSTAMP:20230814T155500Z
SUMMARY:Games on the Green (WOW event)
LOCATION:Outside of Perch
URL;VALUE=URI:https://www.frc.edu/studentlife/calendar/4572611/games-on-the
 -green-wow-event
DTSTART:20230822T183000Z
DTEND:20230822T200000Z
END:VEVENT
END:VCALENDAR
