BEGIN:VCALENDAR
VERSION:2.0
PRODID:SchoolNow
CALSCALE:GREGORIAN
BEGIN:VEVENT
UID:bca1694e-3aba-11ee-850d-02bb5b6ba9c1
DTSTAMP:20230821T155926Z
SUMMARY:CANCELLED - Pool Party (WOW event)
URL;VALUE=URI:https://www.frc.edu/studentlife/calendar/4572609/pool-party-b
 bq-wow-event
DTSTART:20230822T000000Z
DTEND:20230822T020000Z
END:VEVENT
END:VCALENDAR
