BEGIN:VCALENDAR
VERSION:2.0
PRODID:SchoolNow
CALSCALE:GREGORIAN
BEGIN:VEVENT
UID:85a64766-3aba-11ee-96c1-02f90cb0ca19
DTSTAMP:20230818T232543Z
SUMMARY:Welcome Dinner & Games (Moved indoors to gym) - WOW event
LOCATION:Outdoor Basketball Courts - Near Ag Facility
URL;VALUE=URI:https://www.frc.edu/studentlife/calendar/4572607/welcome-dinn
 er-games-wow-event
DTSTART:20230819T010000Z
DTEND:20230819T030000Z
END:VEVENT
END:VCALENDAR
