BEGIN:VCALENDAR
VERSION:2.0
PRODID:SchoolNow
CALSCALE:GREGORIAN
BEGIN:VEVENT
UID:95a56e88-f345-11ed-8988-0af7b61e631f
DTSTAMP:20230516T155701Z
SUMMARY:Dodgeball Tournament
LOCATION:Gymnasium
URL;VALUE=URI:https://www.frc.edu/studentlife/calendar/4246430/dodgeball-to
 urnament
DTSTART:20230518T010000Z
DTEND:20230518T030000Z
END:VEVENT
END:VCALENDAR
