BEGIN:VCALENDAR
VERSION:2.0
PRODID:SchoolNow
CALSCALE:GREGORIAN
BEGIN:VEVENT
UID:b736b548-ef5d-11ed-b4f2-0ab06ccc209d
DTSTAMP:20230517T184430Z
SUMMARY:Year End Celebration & BBQ!
LOCATION:Field behind sand volleyball courts
URL;VALUE=URI:https://www.frc.edu/studentlife/calendar/4218736/end-of-year-
 bbq-celebration
DTSTART:20230519T010000Z
DTEND:20230519T030000Z
END:VEVENT
END:VCALENDAR
