BEGIN:VCALENDAR
VERSION:2.0
PRODID:SchoolNow
CALSCALE:GREGORIAN
BEGIN:VEVENT
UID:b04065a6-eeac-11ed-a22d-0ab06ccc209d
DTSTAMP:20230516T181703Z
SUMMARY:Grad Cap Decorating
LOCATION:Mental Health and Wellness Center
URL;VALUE=URI:https://www.frc.edu/studentlife/calendar/4212808/grad-cap-dec
 orating
DTSTART:20230515T153000Z
DTEND:20230526T233000Z
END:VEVENT
END:VCALENDAR
