BEGIN:VCALENDAR
VERSION:2.0
PRODID:SchoolNow
CALSCALE:GREGORIAN
BEGIN:VEVENT
UID:030719da-ee97-11ed-8014-0ef0d548e2dd
DTSTAMP:20230509T183604Z
SUMMARY:FRC Football Spring-ball Game
LOCATION:Brennan Stadium (FRC Campus)
URL;VALUE=URI:https://www.frc.edu/studentlife/calendar/4212774/frc-football
 -spring-ball-game
DTSTART:20230512T020000Z
DTEND:20230512T030000Z
END:VEVENT
END:VCALENDAR
